BEGIN:VCALENDAR
VERSION:2.0
PRODID:icalendar-ruby
CALSCALE:GREGORIAN
METHOD:PUBLISH
BEGIN:VEVENT
DTSTAMP:20260421T005203Z
UID:58-752866@fofks.com
DTSTART:20261007T233000Z
DTEND:20261008T010000Z
CLASS:PUBLIC
CREATED:20260420T191514
DESCRIPTION:FOOD\, GAMES\, WORSHIP\, TEACHING\, &amp\; PRAYER.
LAST-MODIFIED:20260420T191514
LOCATION:Family of Faith
SUMMARY:ENCOUNTER YOUTH
URL;VALUE=URI:https://fofks.com/events/encounter-youth/2026-10-07
ATTACH;FILENAME=ENCOUNTER-YOUTH-SLIDE-15.png;FMTTYPE=image/png:https://dq5p
 wpg1q8ru0.cloudfront.net/2025/09/20/19/09/45/96505215-d3f3-4867-9eec-bc6bd
 4621fec/ENCOUNTER-YOUTH-SLIDE-15.png
END:VEVENT
END:VCALENDAR
