BEGIN:VCALENDAR
VERSION:2.0
PRODID:icalendar-ruby
CALSCALE:GREGORIAN
METHOD:PUBLISH
BEGIN:VEVENT
DTSTAMP:20260424T224815Z
UID:59-766210@fofks.com
DTSTART:20261016T233000Z
DTEND:20261017T010000Z
CLASS:PUBLIC
CREATED:20260424T150054
DESCRIPTION:1st\, 2nd\, &amp\; 4th Fridays: Women's Study.\n3rd Fridays: a 
 monthly rotation of BUNCO\, Night of Women's Worship\, or Food &amp\; Fell
 owship. (Check monthly calendar.)\nWE DO NOT MEET ON THE 5TH FRIDAYS OF TH
 E MONTH.\nContact Melissa Bailey for more info: (785) 766-2927.
LAST-MODIFIED:20260424T150054
LOCATION:Family of Faith
SUMMARY:FOF SISTERHOOD
URL;VALUE=URI:https://fofks.com/events/fof-sisterhood/2026-10-16
ATTACH;FILENAME=FOF-SISTERHOOD-AD-%281500-x-784-px%29.png;FMTTYPE=image/png
 :https://dq5pwpg1q8ru0.cloudfront.net/2025/09/20/19/53/21/4691e11f-0210-46
 36-a751-d36901661d33/FOF-SISTERHOOD-AD-%25281500-x-784-px%2529.png
END:VEVENT
END:VCALENDAR
