BEGIN:VCALENDAR
VERSION:2.0
PRODID:icalendar-ruby
CALSCALE:GREGORIAN
METHOD:PUBLISH
BEGIN:VEVENT
DTSTAMP:20260419T184930Z
UID:61-746963@fofks.com
DTSTART:20261021T233000Z
DTEND:20261022T010000Z
CLASS:PUBLIC
CREATED:20260419T103834
DESCRIPTION:A study of autobiography of missions Heidi Meuller.\nGroup meet
 s in the nursery\, Wednesdays\, 6:30 - 8:00 PM.\nContact Emma Ledford: (78
 5) 218-7233 for more info.
LAST-MODIFIED:20260419T103834
LOCATION:Family of Faith
SUMMARY:WOMEN'S STUDY
URL;VALUE=URI:https://fofks.com/events/womens-study/2026-10-21
ATTACH;FILENAME=Emma-Ledord%27s-group-study-slide-2025.png;FMTTYPE=image/pn
 g:https://dq5pwpg1q8ru0.cloudfront.net/2025/09/20/22/19/08/c8259b9a-9c99-4
 81e-9c02-c36c13e5e6ce/Emma-Ledord%2527s-group-study-slide-2025.png
END:VEVENT
END:VCALENDAR
